Package: miRSM Version: 2.5.4 Command: /Library/Frameworks/R.framework/Resources/bin/R CMD INSTALL miRSM StartedAt: 2025-10-05 15:26:01 -0400 (Sun, 05 Oct 2025) EndedAt: 2025-10-05 15:26:29 -0400 (Sun, 05 Oct 2025) EllapsedTime: 27.8 seconds RetCode: 0 Status: OK