Package: miRSM Version: 2.5.4 Command: /Library/Frameworks/R.framework/Resources/bin/R CMD build --keep-empty-dirs --no-resave-data miRSM StartedAt: 2025-10-03 17:02:11 -0400 (Fri, 03 Oct 2025) EndedAt: 2025-10-03 17:02:59 -0400 (Fri, 03 Oct 2025) EllapsedTime: 48.5 seconds RetCode: 0 Status: OK PackageFile: miRSM_2.5.4.tar.gz PackageFileSize: 4.883 MiB