Package: miRNAtap Version: 1.43.0 Command: /home/biocbuild/R/R/bin/R CMD INSTALL miRNAtap StartedAt: 2025-07-21 20:48:44 -0000 (Mon, 21 Jul 2025) EndedAt: 2025-07-21 20:49:01 -0000 (Mon, 21 Jul 2025) EllapsedTime: 17.7 seconds RetCode: 0 Status: OK