Package: miRNAtap Version: 1.43.0 Command: /home/biocbuild/R/R/bin/R CMD build --keep-empty-dirs --no-resave-data miRNAtap StartedAt: 2025-07-22 01:11:55 -0000 (Tue, 22 Jul 2025) EndedAt: 2025-07-22 01:12:56 -0000 (Tue, 22 Jul 2025) EllapsedTime: 61.0 seconds RetCode: 0 Status: OK PackageFile: miRNAtap_1.43.0.tar.gz PackageFileSize: 216.4 KiB