Package: miRNAtap Version: 1.43.0 Command: /Library/Frameworks/R.framework/Resources/bin/R CMD INSTALL miRNAtap StartedAt: 2025-07-20 15:28:23 -0400 (Sun, 20 Jul 2025) EndedAt: 2025-07-20 15:28:42 -0400 (Sun, 20 Jul 2025) EllapsedTime: 19.0 seconds RetCode: 0 Status: OK