Package: miRNAtap Version: 1.43.0 Command: /Library/Frameworks/R.framework/Resources/bin/R CMD check --install=check:miRNAtap.install-out.txt --library=/Library/Frameworks/R.framework/Resources/library --no-vignettes --timings miRNAtap_1.43.0.tar.gz StartedAt: 2025-07-20 22:04:32 -0400 (Sun, 20 Jul 2025) EndedAt: 2025-07-20 22:06:37 -0400 (Sun, 20 Jul 2025) EllapsedTime: 124.8 seconds RetCode: 0 Status: OK CheckDir: miRNAtap.Rcheck Warnings: 0