Package: miRNAtap Version: 1.43.0 Command: /Library/Frameworks/R.framework/Resources/bin/R CMD build --keep-empty-dirs --no-resave-data miRNAtap StartedAt: 2025-07-20 17:39:23 -0400 (Sun, 20 Jul 2025) EndedAt: 2025-07-20 17:40:11 -0400 (Sun, 20 Jul 2025) EllapsedTime: 47.9 seconds RetCode: 0 Status: OK PackageFile: miRNAtap_1.43.0.tar.gz PackageFileSize: 222.1 KiB