Package: miRNApath Version: 1.69.0 Command: /home/biocbuild/R/R/bin/R CMD INSTALL miRNApath StartedAt: 2025-10-06 20:12:23 -0000 (Mon, 06 Oct 2025) EndedAt: 2025-10-06 20:12:54 -0000 (Mon, 06 Oct 2025) EllapsedTime: 30.6 seconds RetCode: 0 Status: OK