Package: miRNAmeConverter Version: 1.37.0 Command: /home/biocbuild/R/R/bin/R CMD INSTALL miRNAmeConverter StartedAt: 2025-07-21 20:51:00 -0000 (Mon, 21 Jul 2025) EndedAt: 2025-07-21 20:51:20 -0000 (Mon, 21 Jul 2025) EllapsedTime: 19.7 seconds RetCode: 0 Status: OK