Package: miRNAmeConverter Version: 1.37.0 Command: /home/biocbuild/R/R/bin/R CMD build --keep-empty-dirs --no-resave-data miRNAmeConverter StartedAt: 2025-07-22 01:11:53 -0000 (Tue, 22 Jul 2025) EndedAt: 2025-07-22 01:11:54 -0000 (Tue, 22 Jul 2025) EllapsedTime: 1.0 seconds RetCode: 0 Status: OK PackageFile: miRNAmeConverter_1.37.0.tar.gz PackageFileSize: 313.7 KiB