Package: miRNAmeConverter Version: 1.37.0 Command: /Library/Frameworks/R.framework/Resources/bin/R CMD INSTALL miRNAmeConverter StartedAt: 2025-07-22 15:23:14 -0400 (Tue, 22 Jul 2025) EndedAt: 2025-07-22 15:23:36 -0400 (Tue, 22 Jul 2025) EllapsedTime: 22.8 seconds RetCode: 0 Status: OK