Package: miRLAB Version: 1.39.0 Command: /Library/Frameworks/R.framework/Resources/bin/R CMD INSTALL miRLAB StartedAt: 2025-07-24 15:30:18 -0400 (Thu, 24 Jul 2025) EndedAt: 2025-07-24 15:30:32 -0400 (Thu, 24 Jul 2025) EllapsedTime: 14.2 seconds RetCode: 0 Status: OK