Package: miRLAB Version: 1.39.0 Command: /Library/Frameworks/R.framework/Resources/bin/R CMD build --keep-empty-dirs --no-resave-data miRLAB StartedAt: 2025-07-24 17:05:03 -0400 (Thu, 24 Jul 2025) EndedAt: 2025-07-24 17:05:19 -0400 (Thu, 24 Jul 2025) EllapsedTime: 16.2 seconds RetCode: 0 Status: OK PackageFile: miRLAB_1.39.0.tar.gz PackageFileSize: 192.3 KiB