Package: miRBaseConverter Version: 1.33.0 Command: /home/biocbuild/R/R/bin/R CMD INSTALL miRBaseConverter StartedAt: 2025-10-02 20:18:04 -0000 (Thu, 02 Oct 2025) EndedAt: 2025-10-02 20:18:35 -0000 (Thu, 02 Oct 2025) EllapsedTime: 30.9 seconds RetCode: 0 Status: OK