Package: miRBaseConverter Version: 1.33.0 Command: /home/biocbuild/R/R/bin/R CMD check --install=check:miRBaseConverter.install-out.txt --library=/home/biocbuild/R/R/site-library --no-vignettes --timings miRBaseConverter_1.33.0.tar.gz StartedAt: 2025-10-03 09:04:24 -0000 (Fri, 03 Oct 2025) EndedAt: 2025-10-03 09:05:12 -0000 (Fri, 03 Oct 2025) EllapsedTime: 48.1 seconds RetCode: 0 Status: OK CheckDir: miRBaseConverter.Rcheck Warnings: 0