Package: miQC Version: 1.17.0 Command: rm -rf miQC.buildbin-libdir && mkdir miQC.buildbin-libdir && F:\biocbuild\bbs-3.22-bioc\R\bin\R.exe CMD INSTALL --build --library=miQC.buildbin-libdir miQC_1.17.0.tar.gz StartedAt: 2025-08-15 10:42:38 -0400 (Fri, 15 Aug 2025) EndedAt: 2025-08-15 10:43:08 -0400 (Fri, 15 Aug 2025) EllapsedTime: 29.8 seconds RetCode: 0 Status: OK PackageFile: miQC_1.17.0.zip PackageFileSize: 996.4 KiB