Package: mgsa Version: 1.57.0 Command: /home/biocbuild/R/R/bin/R CMD check --install=check:mgsa.install-out.txt --library=/home/biocbuild/R/R/site-library --no-vignettes --timings mgsa_1.57.0.tar.gz StartedAt: 2025-07-11 09:58:35 -0000 (Fri, 11 Jul 2025) EndedAt: 2025-07-11 09:59:15 -0000 (Fri, 11 Jul 2025) EllapsedTime: 40.0 seconds RetCode: 0 Status: WARNINGS CheckDir: mgsa.Rcheck Warnings: 1