Package: mgsa Version: 1.57.0 Command: /Library/Frameworks/R.framework/Resources/bin/R CMD check --install=check:mgsa.install-out.txt --library=/Library/Frameworks/R.framework/Resources/library --no-vignettes --timings mgsa_1.57.0.tar.gz StartedAt: 2025-06-30 20:03:12 -0400 (Mon, 30 Jun 2025) EndedAt: 2025-06-30 20:03:31 -0400 (Mon, 30 Jun 2025) EllapsedTime: 19.2 seconds RetCode: 0 Status: WARNINGS CheckDir: mgsa.Rcheck Warnings: 1