Package: mfa Version: 1.31.0 Command: /home/biocbuild/R/R/bin/R CMD INSTALL mfa StartedAt: 2025-07-24 21:13:55 -0000 (Thu, 24 Jul 2025) EndedAt: 2025-07-24 21:14:28 -0000 (Thu, 24 Jul 2025) EllapsedTime: 33.3 seconds RetCode: 0 Status: OK