Package: mfa Version: 1.31.0 Command: /home/biocbuild/R/R/bin/R CMD build --keep-empty-dirs --no-resave-data mfa StartedAt: 2025-07-25 01:58:30 -0000 (Fri, 25 Jul 2025) EndedAt: 2025-07-25 01:59:15 -0000 (Fri, 25 Jul 2025) EllapsedTime: 45.0 seconds RetCode: 0 Status: OK PackageFile: mfa_1.31.0.tar.gz PackageFileSize: 507.4 KiB