Package: mfa Version: 1.31.0 Command: /Library/Frameworks/R.framework/Resources/bin/R CMD INSTALL mfa StartedAt: 2025-07-20 15:24:04 -0400 (Sun, 20 Jul 2025) EndedAt: 2025-07-20 15:24:30 -0400 (Sun, 20 Jul 2025) EllapsedTime: 26.2 seconds RetCode: 0 Status: OK