Package: mfa Version: 1.31.0 Command: /Library/Frameworks/R.framework/Resources/bin/R CMD build --keep-empty-dirs --no-resave-data mfa StartedAt: 2025-07-20 17:36:24 -0400 (Sun, 20 Jul 2025) EndedAt: 2025-07-20 17:36:58 -0400 (Sun, 20 Jul 2025) EllapsedTime: 34.3 seconds RetCode: 0 Status: OK PackageFile: mfa_1.31.0.tar.gz PackageFileSize: 542.7 KiB