Package: mfa Version: 1.31.0 Command: rm -rf mfa.buildbin-libdir && mkdir mfa.buildbin-libdir && /Users/biocbuild/BBS/utils/build-universal.sh mfa_1.31.0.tar.gz /Library/Frameworks/R.framework/Resources/bin/R mfa.buildbin-libdir StartedAt: 2025-07-21 01:11:42 -0400 (Mon, 21 Jul 2025) EndedAt: 2025-07-21 01:12:08 -0400 (Mon, 21 Jul 2025) EllapsedTime: 25.3 seconds RetCode: 0 Status: OK PackageFile: mfa_1.31.0.tgz PackageFileSize: 649.9 KiB