Package: methylumi Version: 2.55.0 Command: F:\biocbuild\bbs-3.22-bioc\R\bin\R.exe CMD INSTALL methylumi StartedAt: 2025-07-11 16:58:17 -0400 (Fri, 11 Jul 2025) EndedAt: 2025-07-11 17:00:11 -0400 (Fri, 11 Jul 2025) EllapsedTime: 113.6 seconds RetCode: 0 Status: OK