Package: methylumi Version: 2.55.0 Command: rm -rf methylumi.buildbin-libdir && mkdir methylumi.buildbin-libdir && F:\biocbuild\bbs-3.22-bioc\R\bin\R.exe CMD INSTALL --build --library=methylumi.buildbin-libdir methylumi_2.55.0.tar.gz StartedAt: 2025-07-12 09:15:36 -0400 (Sat, 12 Jul 2025) EndedAt: 2025-07-12 09:17:55 -0400 (Sat, 12 Jul 2025) EllapsedTime: 138.8 seconds RetCode: 0 Status: OK PackageFile: methylumi_2.55.0.zip PackageFileSize: 8.397 MiB