Package: methylumi Version: 2.55.0 Command: /home/biocbuild/bbs-3.22-bioc/R/bin/R CMD build --keep-empty-dirs --no-resave-data --md5 methylumi StartedAt: 2025-07-15 17:59:29 -0400 (Tue, 15 Jul 2025) EndedAt: 2025-07-15 18:02:38 -0400 (Tue, 15 Jul 2025) EllapsedTime: 189.2 seconds RetCode: 0 Status: OK PackageFile: methylumi_2.55.0.tar.gz PackageFileSize: 7.343 MiB