Package: methylscaper Version: 1.17.0 Command: /home/biocbuild/R/R/bin/R CMD INSTALL methylscaper StartedAt: 2025-07-10 22:06:30 -0000 (Thu, 10 Jul 2025) EndedAt: 2025-07-10 22:07:07 -0000 (Thu, 10 Jul 2025) EllapsedTime: 36.8 seconds RetCode: 0 Status: OK