Package: methylscaper Version: 1.17.0 Command: F:\biocbuild\bbs-3.22-bioc\R\bin\R.exe CMD INSTALL methylscaper StartedAt: 2025-07-22 16:52:28 -0400 (Tue, 22 Jul 2025) EndedAt: 2025-07-22 16:53:15 -0400 (Tue, 22 Jul 2025) EllapsedTime: 47.5 seconds RetCode: 0 Status: OK