Package: methylscaper Version: 1.17.0 Command: F:\biocbuild\bbs-3.22-bioc\R\bin\R.exe CMD check --no-multiarch --install=check:methylscaper.install-out.txt --library=F:\biocbuild\bbs-3.22-bioc\R\library --no-vignettes --timings methylscaper_1.17.0.tar.gz StartedAt: 2025-07-23 03:58:37 -0400 (Wed, 23 Jul 2025) EndedAt: 2025-07-23 04:02:34 -0400 (Wed, 23 Jul 2025) EllapsedTime: 237.0 seconds RetCode: 0 Status: OK CheckDir: methylscaper.Rcheck Warnings: 0