Package: methylscaper Version: 1.17.0 Command: chmod a+r methylscaper -R && F:\biocbuild\bbs-3.22-bioc\R\bin\R.exe CMD build --keep-empty-dirs --no-resave-data methylscaper StartedAt: 2025-07-22 20:16:58 -0400 (Tue, 22 Jul 2025) EndedAt: 2025-07-22 20:18:46 -0400 (Tue, 22 Jul 2025) EllapsedTime: 108.1 seconds RetCode: 0 Status: OK PackageFile: methylscaper_1.17.0.tar.gz PackageFileSize: 3.803 MiB