Package: methylscaper Version: 1.17.0 Command: rm -rf methylscaper.buildbin-libdir && mkdir methylscaper.buildbin-libdir && F:\biocbuild\bbs-3.22-bioc\R\bin\R.exe CMD INSTALL --build --library=methylscaper.buildbin-libdir methylscaper_1.17.0.tar.gz StartedAt: 2025-07-23 09:32:02 -0400 (Wed, 23 Jul 2025) EndedAt: 2025-07-23 09:32:52 -0400 (Wed, 23 Jul 2025) EllapsedTime: 49.6 seconds RetCode: 0 Status: OK PackageFile: methylscaper_1.17.0.zip PackageFileSize: 2.97 MiB