Package: methylclock Version: 1.15.0 Command: F:\biocbuild\bbs-3.22-bioc\R\bin\R.exe CMD INSTALL methylclock StartedAt: 2025-07-22 17:01:22 -0400 (Tue, 22 Jul 2025) EndedAt: 2025-07-22 17:03:33 -0400 (Tue, 22 Jul 2025) EllapsedTime: 130.3 seconds RetCode: 0 Status: OK