Package: methylclock Version: 1.15.0 Command: F:\biocbuild\bbs-3.22-bioc\R\bin\R.exe CMD check --no-multiarch --install=check:methylclock.install-out.txt --library=F:\biocbuild\bbs-3.22-bioc\R\library --no-vignettes --timings methylclock_1.15.0.tar.gz StartedAt: 2025-07-23 03:56:39 -0400 (Wed, 23 Jul 2025) EndedAt: 2025-07-23 04:10:39 -0400 (Wed, 23 Jul 2025) EllapsedTime: 839.9 seconds RetCode: 0 Status: OK CheckDir: methylclock.Rcheck Warnings: 0