Package: methylclock Version: 1.15.0 Command: chmod a+r methylclock -R && F:\biocbuild\bbs-3.22-bioc\R\bin\R.exe CMD build --keep-empty-dirs --no-resave-data methylclock StartedAt: 2025-07-22 20:15:12 -0400 (Tue, 22 Jul 2025) EndedAt: 2025-07-22 20:27:06 -0400 (Tue, 22 Jul 2025) EllapsedTime: 713.8 seconds RetCode: 0 Status: OK PackageFile: methylclock_1.15.0.tar.gz PackageFileSize: 628.1 KiB