Package: methylclock Version: 1.15.0 Command: rm -rf methylclock.buildbin-libdir && mkdir methylclock.buildbin-libdir && /Users/biocbuild/BBS/utils/build-universal.sh methylclock_1.15.0.tar.gz /Library/Frameworks/R.framework/Resources/bin/R methylclock.buildbin-libdir StartedAt: 2025-07-11 22:25:50 -0400 (Fri, 11 Jul 2025) EndedAt: 2025-07-11 22:26:21 -0400 (Fri, 11 Jul 2025) EllapsedTime: 30.5 seconds RetCode: 0 Status: OK PackageFile: methylclock_1.15.0.tgz PackageFileSize: 1.02 MiB