Package: methylSig Version: 1.21.0 Command: /home/biocbuild/R/R/bin/R CMD check --install=check:methylSig.install-out.txt --library=/home/biocbuild/R/R/site-library --no-vignettes --timings methylSig_1.21.0.tar.gz StartedAt: 2025-07-18 08:30:28 -0000 (Fri, 18 Jul 2025) EndedAt: 2025-07-18 08:37:47 -0000 (Fri, 18 Jul 2025) EllapsedTime: 438.6 seconds RetCode: 0 Status: OK CheckDir: methylSig.Rcheck Warnings: 0