Package: methylSig Version: 1.21.0 Command: /home/biocbuild/R/R/bin/R CMD build --keep-empty-dirs --no-resave-data methylSig StartedAt: 2025-07-15 00:56:56 -0000 (Tue, 15 Jul 2025) EndedAt: 2025-07-15 01:21:56 -0000 (Tue, 15 Jul 2025) EllapsedTime: 1499.9 seconds RetCode: 0 Status: OK PackageFile: methylSig_1.21.0.tar.gz PackageFileSize: 541.3 KiB