Package: methylSig Version: 1.21.0 Command: F:\biocbuild\bbs-3.22-bioc\R\bin\R.exe CMD INSTALL methylSig StartedAt: 2025-07-14 16:32:01 -0400 (Mon, 14 Jul 2025) EndedAt: 2025-07-14 16:33:09 -0400 (Mon, 14 Jul 2025) EllapsedTime: 67.1 seconds RetCode: 0 Status: OK