Package: methylSig Version: 1.21.0 Command: F:\biocbuild\bbs-3.22-bioc\R\bin\R.exe CMD check --no-multiarch --install=check:methylSig.install-out.txt --library=F:\biocbuild\bbs-3.22-bioc\R\library --no-vignettes --timings methylSig_1.21.0.tar.gz StartedAt: 2025-07-18 03:49:21 -0400 (Fri, 18 Jul 2025) EndedAt: 2025-07-18 03:56:29 -0400 (Fri, 18 Jul 2025) EllapsedTime: 428.2 seconds RetCode: 0 Status: OK CheckDir: methylSig.Rcheck Warnings: 0