Package: methylSig Version: 1.21.0 Command: chmod a+r methylSig -R && F:\biocbuild\bbs-3.22-bioc\R\bin\R.exe CMD build --keep-empty-dirs --no-resave-data methylSig StartedAt: 2025-07-14 20:17:39 -0400 (Mon, 14 Jul 2025) EndedAt: 2025-07-14 20:20:33 -0400 (Mon, 14 Jul 2025) EllapsedTime: 174.0 seconds RetCode: 0 Status: OK PackageFile: methylSig_1.21.0.tar.gz PackageFileSize: 493.3 KiB