Package: methylSig Version: 1.21.0 Command: /Library/Frameworks/R.framework/Resources/bin/R CMD INSTALL methylSig StartedAt: 2025-07-16 15:30:52 -0400 (Wed, 16 Jul 2025) EndedAt: 2025-07-16 15:31:59 -0400 (Wed, 16 Jul 2025) EllapsedTime: 67.4 seconds RetCode: 0 Status: OK