Package: methylSig Version: 1.21.0 Command: /Library/Frameworks/R.framework/Resources/bin/R CMD check --install=check:methylSig.install-out.txt --library=/Library/Frameworks/R.framework/Resources/library --no-vignettes --timings methylSig_1.21.0.tar.gz StartedAt: 2025-07-17 21:46:54 -0400 (Thu, 17 Jul 2025) EndedAt: 2025-07-17 21:52:53 -0400 (Thu, 17 Jul 2025) EllapsedTime: 359.2 seconds RetCode: 0 Status: OK CheckDir: methylSig.Rcheck Warnings: 0