Package: methylSig Version: 1.21.0 Command: /Library/Frameworks/R.framework/Resources/bin/R CMD INSTALL methylSig StartedAt: 2025-07-14 15:19:02 -0400 (Mon, 14 Jul 2025) EndedAt: 2025-07-14 15:19:23 -0400 (Mon, 14 Jul 2025) EllapsedTime: 21.1 seconds RetCode: 0 Status: OK