Package: methylSig Version: 1.21.0 Command: rm -rf methylSig.buildbin-libdir && mkdir methylSig.buildbin-libdir && /Users/biocbuild/BBS/utils/build-universal.sh methylSig_1.21.0.tar.gz /Library/Frameworks/R.framework/Resources/bin/R methylSig.buildbin-libdir StartedAt: 2025-07-14 22:25:15 -0400 (Mon, 14 Jul 2025) EndedAt: 2025-07-14 22:25:37 -0400 (Mon, 14 Jul 2025) EllapsedTime: 22.4 seconds RetCode: 0 Status: OK PackageFile: methylSig_1.21.0.tgz PackageFileSize: 583 KiB