Package: methylPipe Version: 1.43.1 Command: F:\biocbuild\bbs-3.22-bioc\R\bin\R.exe CMD INSTALL methylPipe StartedAt: 2025-07-24 17:08:24 -0400 (Thu, 24 Jul 2025) EndedAt: 2025-07-24 17:09:47 -0400 (Thu, 24 Jul 2025) EllapsedTime: 82.4 seconds RetCode: 0 Status: OK