Package: methylPipe Version: 1.43.1 Command: chmod a+r methylPipe -R && F:\biocbuild\bbs-3.22-bioc\R\bin\R.exe CMD build --keep-empty-dirs --no-resave-data methylPipe StartedAt: 2025-07-24 20:29:00 -0400 (Thu, 24 Jul 2025) EndedAt: 2025-07-24 20:32:26 -0400 (Thu, 24 Jul 2025) EllapsedTime: 205.6 seconds RetCode: 0 Status: OK PackageFile: methylPipe_1.43.1.tar.gz PackageFileSize: 783.6 KiB