Package: methylPipe Version: 1.43.1 Command: rm -rf methylPipe.buildbin-libdir && mkdir methylPipe.buildbin-libdir && F:\biocbuild\bbs-3.22-bioc\R\bin\R.exe CMD INSTALL --build --library=methylPipe.buildbin-libdir methylPipe_1.43.1.tar.gz StartedAt: 2025-07-25 09:39:35 -0400 (Fri, 25 Jul 2025) EndedAt: 2025-07-25 09:41:30 -0400 (Fri, 25 Jul 2025) EllapsedTime: 115.7 seconds RetCode: 0 Status: OK PackageFile: methylPipe_1.43.1.zip PackageFileSize: 1.478 MiB