Package: methylPipe Version: 1.43.0 Command: /Library/Frameworks/R.framework/Resources/bin/R CMD INSTALL methylPipe StartedAt: 2025-07-11 15:40:21 -0400 (Fri, 11 Jul 2025) EndedAt: 2025-07-11 15:41:35 -0400 (Fri, 11 Jul 2025) EllapsedTime: 73.9 seconds RetCode: 0 Status: OK