Package: methylPipe Version: 1.43.0 Command: /Library/Frameworks/R.framework/Resources/bin/R CMD check --install=check:methylPipe.install-out.txt --library=/Library/Frameworks/R.framework/Resources/library --no-vignettes --timings methylPipe_1.43.0.tar.gz StartedAt: 2025-07-13 21:52:29 -0400 (Sun, 13 Jul 2025) EndedAt: 2025-07-13 22:01:00 -0400 (Sun, 13 Jul 2025) EllapsedTime: 510.3 seconds RetCode: 0 Status: WARNINGS CheckDir: methylPipe.Rcheck Warnings: 2