Package: methylPipe Version: 1.43.0 Command: /Library/Frameworks/R.framework/Resources/bin/R CMD INSTALL methylPipe StartedAt: 2025-07-14 15:24:51 -0400 (Mon, 14 Jul 2025) EndedAt: 2025-07-14 15:25:13 -0400 (Mon, 14 Jul 2025) EllapsedTime: 22.1 seconds RetCode: 0 Status: OK